BEGIN:VCALENDAR
VERSION:2.0
PRODID:-//ChamberMaster//Event Calendar 2.0//EN
METHOD:PUBLISH
X-PUBLISHED-TTL:P3D
REFRESH-INTERVAL:P3D
CALSCALE:GREGORIAN
BEGIN:VEVENT
DTSTART:20260517T170000Z
DTEND:20260517T210000Z
X-MICROSOFT-CDO-ALLDAYEVENT:FALSE
SUMMARY:Youth Festival
DESCRIPTION:Presented by Buttonwood Nature Center. FREE. Geared for kids of all ages\, the event features a variety of activities and entertainment throughout the day. Featured entertainment: Birds of Prey presented by Miller's Wildlife. Learn about birds of prey\, also known as raptors. Miller's Wildlife will take you under their wing and teach you about the distinct characteristics of a variety of raptors. From "feathered missiles" to "wolves of the sky\," this program will take your understanding of raptors to new heights! Activity stations with area artists and organizations provide more fun. For more information\, visit: buttonwoodnaturecenter.org\, call 717-762-0373 or email at: info@buttonwoodnaturecenter.org.
X-ALT-DESC;FMTTYPE=text/html:<p>Presented by Buttonwood Nature Center. FREE. Geared for kids of all ages\, the event features a variety of activities and entertainment throughout the day. Featured entertainment: <span style="font-family:helvetica neue"><em>Birds of Prey</em></span>&nbsp\;presented by Miller&rsquo\;s Wildlife. <span style="font-family:helvetica neue">Learn about birds of prey\, </span>also known as&nbsp\;<span style="font-family:helvetica neue"><em>raptors</em></span>. Miller&rsquo\;s Wildlife will take you under their wing and teach you about the distinct characteristics of a variety of raptors. From &ldquo\;feathered missiles&rdquo\; to &ldquo\;wolves of the sky\,&rdquo\; this program will take your understanding of raptors to new heights! Activity stations with area artists and organizations provide more fun. For more information\, visit: <a href="http://buttonwoodnaturecenter.org">buttonwoodnaturecenter.org</a>\, call 717-762-0373 or email at: <a href="mailto:info@buttonwoodnaturecenter.org">info@buttonwoodnaturecenter.org</a>.</p>\n
LOCATION:Pine Hill Recreation Area\, 12684 Mentzer Gap Rd\, Waynesboro\, PA
UID:e.3398.11630
SEQUENCE:3
DTSTAMP:20260421T180743Z
URL:https://business.waynesboro.org/events/details/youth-festival-05-17-2026-11630
END:VEVENT

END:VCALENDAR
