BEGIN:VCALENDAR
VERSION:2.0
PRODID:-//ChamberMaster//Event Calendar 2.0//EN
METHOD:PUBLISH
X-PUBLISHED-TTL:P3D
REFRESH-INTERVAL:P3D
CALSCALE:GREGORIAN
BEGIN:VEVENT
DTSTART:20260629T140000Z
DTEND:20260629T151500Z
X-MICROSOFT-CDO-ALLDAYEVENT:FALSE
SUMMARY:Wee Wonders Nature Series for Preschool—Summer 2026
DESCRIPTION:Outdoor nature series for kids ages 2.5 years through 5. Pre-registration for full series required. Children must be accompanied by a parent. Taught by Buttonwood educators\, age-appropriate program activities make learning fun\, and include exploring the outdoors\, hikes\, nature stories\, rhymes\, finger plays\, nature games\, and puppets. This summer's Wee Wonders is celebrating the season dancing\, leafing\, splashing\, planting and more into summer. Series Fee: $40 Buttonwood Nature Center member\, $45 general public\, per child. Register online before May 25: buttonwoodnaturecenter.org. For more information\, call 717-762-0373 or email to info@buttonwoodnaturecenter.org.
X-ALT-DESC;FMTTYPE=text/html:<p>Outdoor nature series for kids ages 2.5 years through 5. Pre-registration for full series required. Children must be accompanied by a parent. Taught by Buttonwood educators\, age-appropriate program activities make learning fun\, and include exploring the outdoors\, hikes\, nature stories\, rhymes\, finger plays\, nature games\, and puppets. This summer&rsquo\;s Wee Wonders is celebrating the season&hellip\;dancing\, leafing\, splashing\, planting and more&mdash\;into summer. Series Fee: $40 Buttonwood Nature Center member\, $45 general public\, per child. Register online before May 25: <a href="http://buttonwoodnaturecenter.org/">buttonwoodnaturecenter.org</a>. For more information\, call 717-762-0373 or email to <a href="mailto:info@buttonwoodnaturecenter.org">info@buttonwoodnaturecenter.org</a>.</p>\n
LOCATION:Pine Hill Recreation Area\, 12684 Mentzer Gap Rd\, Waynesboro\, Pa.
UID:e.3398.11638
SEQUENCE:3
DTSTAMP:20260421T181134Z
URL:https://business.waynesboro.org/events/details/wee-wonders-nature-series-for-preschool-summer-2026-06-29-2026-11638
END:VEVENT

END:VCALENDAR
