BEGIN:VCALENDAR
VERSION:2.0
PRODID:-//ChamberMaster//Event Calendar 2.0//EN
METHOD:PUBLISH
X-PUBLISHED-TTL:P3D
REFRESH-INTERVAL:P3D
CALSCALE:GREGORIAN
BEGIN:VEVENT
DTSTART:20260507T160000Z
DTEND:20260507T180000Z
X-MICROSOFT-CDO-ALLDAYEVENT:FALSE
SUMMARY:The Walking LIbrarian: Path Pictures
DESCRIPTION:May 7th\, 12:00 - 2:00pm at Renfrew Museum & Park\n\n\n\nJoin library staff for a calm and inspiring walk through Renfrew Park as we explore the beauty of the natural world. This small-group program invites participants to slow down\, stay present\, and connect with themselves and nature through photography.\n\nUsing a library-provided camera or your own\, you'll capture images inspired by a single-word prompt. AHMFL will display the photos in our 2nd Floor Gallery and on social media.\n\n \n\nRegistration Required.\n\nLimited cameras available. Adults only please.\n\nSign up at the library to join us!
X-ALT-DESC;FMTTYPE=text/html:<p><span style="color:rgba(0\,0\,0\,var(--O42jJQ\,1))">May 7</span><span style="color:rgba(0\,0\,0\,var(--O42jJQ\,1))">th</span><span style="color:rgba(0\,0\,0\,var(--O42jJQ\,1))">\, 12:00 - 2:00pm at&nbsp\;</span><span style="color:rgba(0\,0\,0\,var(--O42jJQ\,1))">Renfrew Museum &amp\; Park</span></p>\n\n<p><br />\n<span style="color:rgba(0\,0\,0\,var(--O42jJQ\,1))">Join library staff for a calm and inspiring walk through Renfrew Park as we explore the beauty of the natural world. This small-group program invites participants to slow down\, stay present\, and connect with themselves and nature through photography.</span></p>\n\n<p><span style="color:rgba(0\,0\,0\,var(--O42jJQ\,1))">Using a library-provided camera or your own\, you&rsquo\;ll capture images inspired by a single-word prompt. AHMFL will display the photos in our 2</span><span style="color:rgba(0\,0\,0\,var(--O42jJQ\,1))">nd</span><span style="color:rgba(0\,0\,0\,var(--O42jJQ\,1))"> Floor Gallery and on social media.</span></p>\n\n<p>&nbsp\;</p>\n\n<p><span style="color:rgba(0\,0\,0\,var(--O42jJQ\,1))">Registration Required.</span></p>\n\n<p><span style="color:rgba(0\,0\,0\,var(--O42jJQ\,1))">Limited cameras available. Adults only please.</span></p>\n\n<p><span style="color:rgba(0\,0\,0\,var(--O42jJQ\,1))">Sign up at the library to join us!</span></p>\n
LOCATION:Renfrew Park 1010 E Main St\, Waynesboro\, PA 17268
UID:e.3398.11643
SEQUENCE:3
DTSTAMP:20260421T175827Z
URL:https://business.waynesboro.org/events/details/the-walking-librarian-path-pictures-11643
END:VEVENT

END:VCALENDAR
