BEGIN:VCALENDAR
VERSION:2.0
PRODID:-//ChamberMaster//Event Calendar 2.0//EN
METHOD:PUBLISH
X-PUBLISHED-TTL:P3D
REFRESH-INTERVAL:P3D
CALSCALE:GREGORIAN
BEGIN:VEVENT
DTSTART:20260521T140000Z
DTEND:20260521T153000Z
X-MICROSOFT-CDO-ALLDAYEVENT:FALSE
SUMMARY:The Walking Librarian: Bird Migration Celebration
DESCRIPTION:Thursday\, May 21\n\n10:00- 11:30am\n\n1010 E Main St\, Waynesboro\, PA 17268\n\nCelebrate peak spring bird migration! Join library staff as we stroll around Renfrew Park looking and listening for unique avian specimens. Bring your own birding gear if you wish\; the library also has limited binoculars.\n\nAdults Only Please. \n\nRegistration Required\n\nSign up at the library to join us!
X-ALT-DESC;FMTTYPE=text/html:<p><strong>Thursday\, May 21</strong></p>\n\n<p><strong>10:00- 11:30am</strong></p>\n\n<p><strong>1010 E Main St\, Waynesboro\, PA 17268</strong></p>\n\n<p><span style="color:rgba(0\,0\,0\,var(--O42jJQ\,1))">Celebrate peak spring bird migration! Join library staff as we stroll around Renfrew Park looking and listening for unique avian specimens. Bring your</span><span style="color:rgba(0\,0\,0\,var(--O42jJQ\,1))"> </span><span style="color:rgba(0\,0\,0\,var(--O42jJQ\,1))">own birding gear if you wish\; the library also has limited binoculars.</span></p>\n\n<p><span style="color:rgba(0\,0\,0\,var(--O42jJQ\,1))">Adults Only Please.</span><span style="color:rgba(0\,0\,0\,var(--O42jJQ\,1))"> </span></p>\n\n<p><strong>Registration Required</strong></p>\n\n<p><strong>Sign up at the library to join us!</strong></p>\n
LOCATION:Renfrew Park 1010 E Main St\, Waynesboro\, PA 17268
UID:e.3398.11659
SEQUENCE:3
DTSTAMP:20260421T175828Z
URL:https://business.waynesboro.org/events/details/the-walking-librarian-bird-migration-celebration-11659
END:VEVENT

END:VCALENDAR
