BEGIN:VCALENDAR
VERSION:2.0
PRODID:-//ChamberMaster//Event Calendar 2.0//EN
METHOD:PUBLISH
X-PUBLISHED-TTL:P3D
REFRESH-INTERVAL:P3D
CALSCALE:GREGORIAN
BEGIN:VEVENT
DTSTART:20260630T140000Z
DTEND:20260630T150000Z
X-MICROSOFT-CDO-ALLDAYEVENT:FALSE
SUMMARY:Summer Stories for Kids
DESCRIPTION:Storytime in the park! This year's theme is "Oh\, The places you go in summer!" Join Buttonwood staff and volunteers for story times about the different places often visited in summer. Each story will be followed by a craft. Free admission. For kids age preschool and up. If inclement weather\, call 717-762-0373 to confirm. For more information\, email to jessica@buttonwoodnaturecenter.org. Check the full lineup of stories on our website.
X-ALT-DESC;FMTTYPE=text/html:<p>Storytime in the park! This year&rsquo\;s theme is &ldquo\;Oh\, The places you go&mdash\;in summer!&rdquo\; Join Buttonwood staff and volunteers for story times about the different places often visited in summer. Each story will be followed by a craft. Free admission. For kids age preschool and up. If inclement weather\, call 717-762-0373 to confirm. For more information\, email to <a href="mailto:jessica@buttonwoodnaturecenter.org">jessica@buttonwoodnaturecenter.org</a>. Check the full lineup of stories on our website.</p>\n
LOCATION:Pine Hill Recreation Area\, 12684 Mentzer Gap Rd\, Waynesboro\, Pa.
UID:e.3398.11647
SEQUENCE:3
DTSTAMP:20260421T175923Z
URL:https://business.waynesboro.org/events/details/summer-stories-for-kids-06-30-2026-11647
END:VEVENT

END:VCALENDAR
