BEGIN:VCALENDAR
VERSION:2.0
PRODID:-//ChamberMaster//Event Calendar 2.0//EN
METHOD:PUBLISH
X-PUBLISHED-TTL:P3D
REFRESH-INTERVAL:P3D
CALSCALE:GREGORIAN
BEGIN:VEVENT
DTSTART:20260712T173000Z
DTEND:20260712T183000Z
X-MICROSOFT-CDO-ALLDAYEVENT:FALSE
SUMMARY:StoryWalk® Sunday–July
DESCRIPTION:Join Buttonwood staff as we read this story while going on a summer color scavenger hunt. The StoryWalk will be followed by popsicles and some summer fun! This summer's book is Summer Color! by Diana Murray\, illustrated by Zoe Persico. The book celebrates the colors of summer through the adventures of two children exploring the outdoors\, even during a rainstorm. Free. For more information\, visit buttonwoodnaturecenter.org\, call 717-762-0373 or email to info@buttonwoodnaturecenter.org.
X-ALT-DESC;FMTTYPE=text/html:<p>Join Buttonwood staff as we read this story while going on a summer color scavenger hunt. The StoryWalk will be followed by popsicles and some summer fun! This summer&rsquo\;s book is <em>Summer Color! </em>by Diana Murray\, illustrated by Zoe Persico. The book celebrates the colors of summer through the adventures of two children exploring the outdoors\, even during a rainstorm. Free. For more information\, visit <a href="http://buttonwoodnaturecenter.org">buttonwoodnaturecenter.org</a>\, call 717-762-0373 or email to <a href="mailto:info@buttonwoodnaturecenter.org">info@buttonwoodnaturecenter.org</a>.</p>\n
LOCATION:Pine Hill Recreation Area\, 12684 Mentzer Gap Rd\, Waynesboro\, Pa.
UID:e.3398.11664
SEQUENCE:3
DTSTAMP:20260421T192641Z
URL:https://business.waynesboro.org/events/details/storywalk-sunday-july-11664
END:VEVENT

END:VCALENDAR
