BEGIN:VCALENDAR
VERSION:2.0
PRODID:-//ChamberMaster//Event Calendar 2.0//EN
METHOD:PUBLISH
X-PUBLISHED-TTL:P3D
REFRESH-INTERVAL:P3D
CALSCALE:GREGORIAN
BEGIN:VEVENT
DTSTART:20260813T130000Z
DTEND:20260813T190000Z
X-MICROSOFT-CDO-ALLDAYEVENT:FALSE
SUMMARY:Splash and Science Day Camp 3
DESCRIPTION:Spend the day with Buttonwood educators as you explore the wonders of water! Campers will have the chance to study macroinvertebrates up close\, create a craft\, and play in the stream the perfect way to beat the summer heat! Please remember to wear sunscreen and pack lunch/snacks and lots of water. Kids should wear clothing and closed-toed shoes that can get wet (or a second pair of socks and shoes)\, and bring a towel. For ages 7 12. Camp fee: $60 for members of Buttonwood Nature Center\; $65 general public. For more information\, email to jessica@buttonwoodnaturecenter.org.
X-ALT-DESC;FMTTYPE=text/html:<p>Spend the day with Buttonwood educators as you explore the wonders of water! Campers will have the chance to study macroinvertebrates up close\, create a craft\, and play in the stream&mdash\;the perfect way to beat the summer heat! Please remember to wear sunscreen and pack lunch/snacks and lots of water. Kids should wear clothing and closed-toed shoes that can get wet (or a second pair of socks and shoes)\, and bring a towel.&nbsp\;For ages 7&ndash\;12. Camp fee: $60 for members of Buttonwood Nature Center\; $65 general public. For more information\, email to <a href="mailto:jessica@buttonwoodnaturecenter.org">jessica@buttonwoodnaturecenter.org</a>.</p>\n
LOCATION:Red Run Park\, 12143 Buchanan Trail E\, Waynesboro\, Pa.
UID:e.3398.11669
SEQUENCE:3
DTSTAMP:20260421T203901Z
URL:https://business.waynesboro.org/events/details/splash-and-science-day-camp-3-11669
END:VEVENT

END:VCALENDAR
