BEGIN:VCALENDAR
VERSION:2.0
PRODID:-//ChamberMaster//Event Calendar 2.0//EN
METHOD:PUBLISH
X-PUBLISHED-TTL:P3D
REFRESH-INTERVAL:P3D
CALSCALE:GREGORIAN
BEGIN:VEVENT
DTSTART:20260512T203000Z
DTEND:20260512T213000Z
X-MICROSOFT-CDO-ALLDAYEVENT:FALSE
SUMMARY:Smartphone Basics Class
DESCRIPTION:Join our beginner-friendly smartphone class\, where we'll help you explore everything from internet safety to texting on both Android and iPhone.\n\nSign up at the library today!
X-ALT-DESC;FMTTYPE=text/html:<p><strong>Join our beginner-friendly smartphone class\, where we&rsquo\;ll help you explore everything from internet safety to texting on both Android and iPhone.</strong></p>\n\n<p><strong>Sign up at the library today!</strong></p>\n
LOCATION:Alexander Hamilton Memorial Free Library 45 East Main Street Waynesboro\, PA 17268 (717) 762-3335
UID:e.3398.11652
SEQUENCE:3
DTSTAMP:20260421T192504Z
URL:https://business.waynesboro.org/events/details/smartphone-basics-class-11652
END:VEVENT

END:VCALENDAR
