BEGIN:VCALENDAR
VERSION:2.0
PRODID:-//ChamberMaster//Event Calendar 2.0//EN
METHOD:PUBLISH
X-PUBLISHED-TTL:P3D
REFRESH-INTERVAL:P3D
CALSCALE:GREGORIAN
BEGIN:VEVENT
DTSTART:20260704T110000Z
DTEND:20260704T150000Z
X-MICROSOFT-CDO-ALLDAYEVENT:FALSE
SUMMARY:Salamander Scramble 5K Fundraiser
DESCRIPTION:Lace up your running/walking shoes and join Team Salamander as we walk\, run or scramble! around Waynesboro to raise funds for Buttonwood Nature Center. Team members secure funding pledges from friends\, family\, and co-workers. All athletic levels are welcome. Two ways to participate virtual and in-person. The race is conducted in conjunction with Waynesboro's Firecracker 5K. Our VIP tent will be set up with lots of perks for Team Salamander members. Entry fee: single adult $100\; single child: $50\; family with children: $200. For more info\, visit buttonwoodnaturecenter.org\, call 717-762-0373 or email at: jessica@buttonwoodnaturecenter.org.
X-ALT-DESC;FMTTYPE=text/html:<p>Lace up your running/walking shoes and join Team Salamander as we walk\, run&mdash\;or scramble!&mdash\;around Waynesboro to raise funds for Buttonwood Nature Center. Team members secure funding pledges from friends\, family\, and co-workers. All athletic levels are welcome.&nbsp\;Two ways to participate&mdash\;virtual and in-person. The race is conducted in conjunction with Waynesboro&rsquo\;s Firecracker 5K. Our VIP tent will be set up with lots of perks for Team Salamander members. Entry fee: single adult $100\; single child: $50\; family with children: $200. For more info\, visit <a href="http://buttonwoodnaturecenter.org">buttonwoodnaturecenter.org</a>\, call 717-762-0373 or email at:&nbsp\;<a href="mailto:jessica@buttonwoodnaturecenter.org">jessica@buttonwoodnaturecenter.org</a>.</p>\n
LOCATION:Waynesboro Summer Jubilee\, across from 500 East Main Street\, Waynesboro\, PA
UID:e.3398.11656
SEQUENCE:3
DTSTAMP:20260421T192726Z
URL:https://business.waynesboro.org/events/details/salamander-scramble-5k-fundraiser-07-04-2026-11656
END:VEVENT

END:VCALENDAR
