BEGIN:VCALENDAR
VERSION:2.0
PRODID:-//ChamberMaster//Event Calendar 2.0//EN
METHOD:PUBLISH
X-PUBLISHED-TTL:P3D
REFRESH-INTERVAL:P3D
CALSCALE:GREGORIAN
BEGIN:VEVENT
DTSTART:20260715T130000Z
DTEND:20260715T190000Z
X-MICROSOFT-CDO-ALLDAYEVENT:FALSE
SUMMARY:Rocks and Relics Discover Camp
DESCRIPTION:For students completing grade 3 through age 17. A Discover series program combining earth science\, geology\, archaeology and history. Students explore the secrets of a 200-year-old homestead and how its environment influenced early settlers. Offered in partnership with Little Antietam Creek\, Inc. (LACI). Students join Buttonwood educators and LACI archaeologists to "dig into the past" at historic Stoner Farm digging and working with artifacts\, scientific testing of the properties of limestone and soil\, using remote sensing\, learning how limestone is cut\, and mortar is made\, and more. Camp fee: $60 for members of Buttonwood Nature Center\; $65 general public. Space is limited\; register online by July 8 at buttonwoodnaturecenter.org. More information at 717-762-0373 or via email at info@buttonwoodnaturecenter.org.
X-ALT-DESC;FMTTYPE=text/html:<p>For students completing grade 3 through age 17. A Discover series program combining earth science\, geology\, archaeology and history. Students explore the secrets of a 200-year-old homestead and how its environment influenced early settlers. Offered in partnership with Little Antietam Creek\, Inc. (LACI). Students join Buttonwood educators and LACI archaeologists to &ldquo\;dig into the past&rdquo\; at historic Stoner Farm&mdash\;digging and working with artifacts\, scientific testing of the properties of limestone and soil\, using remote sensing\, learning how limestone is cut\, and mortar is made\, and more. Camp fee: $60 for members of Buttonwood Nature Center\; $65 general public. Space is limited\; register online by July 8 at <a href="http://buttonwoodnaturecenter.org">buttonwoodnaturecenter.org</a>. More information at 717-762-0373 or via email at <a href="mailto:info@buttonwoodnaturecenter.org">info@buttonwoodnaturecenter.org</a>.</p>\n
LOCATION:Stoner Farm\, 8777 Lyons Road\, Waynesboro\, PA
UID:e.3398.11666
SEQUENCE:3
DTSTAMP:20260421T192712Z
URL:https://business.waynesboro.org/events/details/rocks-and-relics-discover-camp-07-15-2026-11666
END:VEVENT

END:VCALENDAR
