BEGIN:VCALENDAR
VERSION:2.0
PRODID:-//ChamberMaster//Event Calendar 2.0//EN
METHOD:PUBLISH
X-PUBLISHED-TTL:P3D
REFRESH-INTERVAL:P3D
CALSCALE:GREGORIAN
BEGIN:VEVENT
DTSTART;VALUE=DATE:20260507
DTEND;VALUE=DATE:20260508
TRANSP:TRANSPARENT
X-MICROSOFT-CDO-ALLDAYEVENT:TRUE
SUMMARY:RANCHER on 1.7± Country Acres at 422 Greenwood Rd\, Tower City PA 17980
DESCRIPTION:RANCHER on 1.7  Country Acres for PUBLIC AUCTION at 422 Greenwood Rd\, Tower City PA 17980. BID ONLINE thru May 7\, 2026. Beautiful home w/ 3 BR\, 1.5 bath LR\, DR\, HW floors\, basement\, covered patio\, oversized 1-car garage\, shed\, full-house generator & more. Quick access to State Game Lands & just 45 minutes to Harrisburg PA!\n\nOPEN HOUSES: Apr 25\, 2-3pm & May 2\, 2-3pm\n\nVIEW DETAILS: https://www.hurleyauctions.com/upcoming-auctions/422-greenwood-rd-tower-city-pa/
X-ALT-DESC;FMTTYPE=text/html:RANCHER on 1.7&plusmn\; Country Acres for PUBLIC AUCTION at 422 Greenwood Rd\, Tower City PA 17980. BID ONLINE thru May 7\, 2026. Beautiful home w/ 3 BR\, 1.5 bath LR\, DR\, HW floors\, basement\, covered patio\, oversized 1-car garage\, shed\, full-house generator &amp\; more. Quick access to State Game Lands &amp\; just 45 minutes to Harrisburg PA!<br />\nOPEN HOUSES: Apr 25\, 2-3pm &amp\; May 2\, 2-3pm<br />\nVIEW DETAILS: https://www.hurleyauctions.com/upcoming-auctions/422-greenwood-rd-tower-city-pa/<br />\n&nbsp\;
LOCATION:422 Greenwood Rd\, Tower City PA 17980
UID:e.3398.11671
SEQUENCE:3
DTSTAMP:20260421T222310Z
URL:https://business.waynesboro.org/events/details/rancher-on-1-7-country-acres-at-422-greenwood-rd-tower-city-pa-17980-11671
END:VEVENT

END:VCALENDAR
