BEGIN:VCALENDAR
VERSION:2.0
PRODID:-//ChamberMaster//Event Calendar 2.0//EN
METHOD:PUBLISH
X-PUBLISHED-TTL:P3D
REFRESH-INTERVAL:P3D
CALSCALE:GREGORIAN
BEGIN:VEVENT
DTSTART:20260606T170000Z
DTEND:20260606T180000Z
X-MICROSOFT-CDO-ALLDAYEVENT:FALSE
SUMMARY:National Trails Day
DESCRIPTION:Join a Buttonwood naturalist for a guided hike in recognition of National Trails Day. The annual event on the first Saturday in June is a chance to get outdoors\, connect with your community\, and enjoy outdoor activities. During the hike\, your expert guide will stop along the way to enjoy the beauty of nature in early summer\, and learn about the Appalachian Trail. Open to families and all ages. Registration is not required and the event is free join us!
X-ALT-DESC;FMTTYPE=text/html:<p>Join a Buttonwood naturalist for a guided hike in recognition of National Trails Day. The annual event on the first Saturday in June is a chance to get outdoors\, connect with your community\, and enjoy outdoor activities. During the hike\, your expert guide will stop along the way to enjoy the beauty of nature in early summer\, and learn about the Appalachian Trail. Open to families and all ages. Registration is not required and the event is free&mdash\;join us!</p>\n
LOCATION:Old Forge Picnic Grounds\, 8006 Old Forge Rd Waynesboro\, PA
UID:e.3398.11639
SEQUENCE:3
DTSTAMP:20260421T180525Z
URL:https://business.waynesboro.org/events/details/national-trails-day-11639
END:VEVENT

END:VCALENDAR
