BEGIN:VCALENDAR
VERSION:2.0
PRODID:-//ChamberMaster//Event Calendar 2.0//EN
METHOD:PUBLISH
X-PUBLISHED-TTL:P3D
REFRESH-INTERVAL:P3D
CALSCALE:GREGORIAN
BEGIN:VEVENT
DTSTART:20260506T210000Z
DTEND:20260506T220000Z
X-MICROSOFT-CDO-ALLDAYEVENT:FALSE
SUMMARY:Local Author Visit: John Poniske
DESCRIPTION:Meet local author and historian John Poniske and enjoy a dramatic reading from his latest book!\n\nSundering Slavery\, the seventh installment in John Poniske's sweeping Snakebit Series\, continues the epic journey through America's darkest conflict where ordinary families and towering figures alike are forever changed by the Civil War.\n\n\n\nSign up at the library!\n\n \n\n \n\n"A Nation Divided. Families Torn. A War That Changes Everything.\n\nIt is the bloody second year of the Civil War. Gettysburg has fallen. Vicksburg is gone. The Confederacy reels\, yet Jefferson Davis refuses to surrender.\n\nIn West Maryland\, two neighboring families embody the nation's fracture. The McCunes\, slave-owners divided among themselves\, clash with the abolitionist Garretts\, who question whether war is the only path to freedom. \n\nAs the war rages\, African American soldiers shock a divided nation by taking up arms\, altering the fate of slavery forever."
X-ALT-DESC;FMTTYPE=text/html:<p><strong>Meet local author and historian John Poniske and enjoy a&nbsp\;</strong><strong>dramatic reading from his latest book!</strong></p>\n\n<p><em>Sundering Slavery</em><em>\, the seventh installment in John Poniske&rsquo\;s sweeping Snakebit Series\, continues the epic journey through America&rsquo\;s darkest conflict where ordinary families and towering figures alike are forever changed by the Civil War.<br />\n<br />\nSign up at the library!</em><br />\n&nbsp\;</p>\n\n<p>&nbsp\;</p>\n\n<p><em>&ldquo\;A Nation Divided. Families Torn. A War That Changes Everything.</em></p>\n\n<p><em>It is the bloody second year of the Civil War. Gettysburg has fallen. Vicksburg is gone. The Confederacy reels\, yet Jefferson Davis refuses to surrender.</em></p>\n\n<p><em>In West Maryland\, two neighboring families embody the nation&rsquo\;s fracture. The McCunes\, slave-owners divided among themselves\, clash with the abolitionist Garretts\, who question whether war is the only path to freedom.</em><em> </em></p>\n\n<p><em>As the war rages\, African American soldiers shock a divided nation by taking up arms\, altering the fate of slavery forever.&rdquo\;</em><br />\n<br />\n&nbsp\;</p>\n
LOCATION:Alexander Hamilton Memorial Free Library 45 East Main Street Waynesboro\, PA 17268 (717) 762-3335
UID:e.3398.11640
SEQUENCE:3
DTSTAMP:20260421T180509Z
URL:https://business.waynesboro.org/events/details/local-author-visit-john-poniske-11640
END:VEVENT

END:VCALENDAR
