BEGIN:VCALENDAR
VERSION:2.0
PRODID:-//ChamberMaster//Event Calendar 2.0//EN
METHOD:PUBLISH
X-PUBLISHED-TTL:P3D
REFRESH-INTERVAL:P3D
CALSCALE:GREGORIAN
BEGIN:VEVENT
DTSTART:20260516T123000Z
DTEND:20260516T200000Z
X-MICROSOFT-CDO-ALLDAYEVENT:FALSE
SUMMARY:Geology Field Trip: Your Backyard Geology
DESCRIPTION:Geology Field Trip: Your Backyard Geology\n\nTrip designed to focus on the geologic history and topography of our region. Geared for families\, the trip includes collecting fossils\, minerals and rocks along with visiting geologic sites dating back as far as 160 million years. Includes a tour of the Black-Coffey Caverns. Opportunity to fulfill Boy Scout requirements or homeschooler project. Transportation by bus only\, provided. Pre-registration required. Open to those age 8 and older. Fee: $65 members of Buttonwood Nature Center\, $70 general public. Bring bag lunch. For more information\, contact us at (717) 762-0373 or info@buttonwoodnaturecenter.org.
X-ALT-DESC;FMTTYPE=text/html:<p><strong>Geology Field Trip: Your Backyard Geology</strong></p>\n\n<p>Trip designed to focus on the geologic history and topography of our region. Geared for families\, the trip includes collecting fossils\, minerals and rocks along with visiting geologic sites dating back as far as 160 million years. Includes a tour of the Black-Coffey Caverns. Opportunity to fulfill Boy Scout requirements or homeschooler project. Transportation by bus only\, provided. Pre-registration required. Open to those age 8 and older. Fee: $65 members of Buttonwood Nature Center\, $70 general public. Bring bag lunch. For more information\, contact us at (717) 762-0373 or <a href="mailto:info@buttonwoodnaturecenter.org">info@buttonwoodnaturecenter.org</a>.&nbsp\;</p>\n
LOCATION:Location provided upon registration.
UID:e.3398.11629
SEQUENCE:3
DTSTAMP:20260421T175924Z
URL:https://business.waynesboro.org/events/details/geology-field-trip-your-backyard-geology-11629
END:VEVENT

END:VCALENDAR
