BEGIN:VCALENDAR
VERSION:2.0
PRODID:-//ChamberMaster//Event Calendar 2.0//EN
METHOD:PUBLISH
X-PUBLISHED-TTL:P3D
REFRESH-INTERVAL:P3D
CALSCALE:GREGORIAN
BEGIN:VEVENT
DTSTART:20260505T200000Z
DTEND:20260505T210000Z
X-MICROSOFT-CDO-ALLDAYEVENT:FALSE
SUMMARY:Financial Family Feud w/ 1st Ed Credit Union
DESCRIPTION:Adults & Teens -\n\n\n\nJoin Doug Harmon of 1st Ed Credit Union at AHMFL for Financial Family Feud! Test your knowledge on all things related to money & reaching your goals. \n\nPlay for a chance to win! \n\nTest your money smarts for a chance to win books. . .\n\nPlus a random drawing for one $25 Visa gift card!\n\n \n\nSign up at the library or call us.\n\nAdults & Teens are both welcome to join us for this family-friendly game.
X-ALT-DESC;FMTTYPE=text/html:<p><strong>Adults &amp\; Teens -<br />\n<br />\nJoin Doug Harmon of 1</strong><strong>st</strong><strong> Ed Credit Union at AHMFL for Financial Family Feud!</strong><strong> </strong><strong>Test your knowledge on all things related to money &amp\; reaching your goals.</strong><strong> </strong></p>\n\n<p><strong>Play for a chance to win!&nbsp\;</strong></p>\n\n<p><strong>Test your money smarts for a chance to win books. . .</strong></p>\n\n<p><strong>Plus a random drawing for one $25 Visa gift card!</strong></p>\n\n<p>&nbsp\;</p>\n\n<p><strong>Sign up at the library or call us.</strong></p>\n\n<p><strong>Adults &amp\; Teens are both welcome to join us for this family-friendly game.</strong><br />\n<br />\n&nbsp\;</p>\n\n<p>&nbsp\;</p>\n
LOCATION:Alexander Hamilton Memorial Free Library 45 East Main Street Waynesboro\, PA 17268 (717) 762-3335
UID:e.3398.11633
SEQUENCE:3
DTSTAMP:20260421T180016Z
URL:https://business.waynesboro.org/events/details/financial-family-feud-w-1st-ed-credit-union-11633
END:VEVENT

END:VCALENDAR
