BEGIN:VCALENDAR
VERSION:2.0
PRODID:-//ChamberMaster//Event Calendar 2.0//EN
METHOD:PUBLISH
X-PUBLISHED-TTL:P3D
REFRESH-INTERVAL:P3D
CALSCALE:GREGORIAN
BEGIN:VEVENT
DTSTART:20260729T140000Z
DTEND:20260729T153000Z
X-MICROSOFT-CDO-ALLDAYEVENT:FALSE
SUMMARY:EXPLORE! Painting with Nature
DESCRIPTION:Part of the EXPLORE series of outdoor adventure programs for kids in grades K to 5\, presented by Buttonwood Nature Center. Nature is beautiful to look at\, but did you know it can also be used to create beautiful artwork? We will go on a hike to find natural items that we will then use to make art. The only catch no paintbrushes! Fee: $8 member of Buttonwood Nature Center\; $10 general public. Space is limited. Register online by July 22 at buttonwoodnaturecenter.org.
X-ALT-DESC;FMTTYPE=text/html:<p>Part of the EXPLORE series of outdoor adventure programs for kids in grades K to 5\, presented by Buttonwood Nature Center. Nature is beautiful to look at\, but did you know it can also be used to create beautiful artwork? We will go on a hike to find natural items that we will then use to make art. The only catch&mdash\;no paintbrushes! Fee: $8 member of Buttonwood Nature Center\; $10 general public. Space is limited. Register online by July 22 at <a href="http://buttonwoodnaturecenter.org">buttonwoodnaturecenter.org</a>.</p>\n
LOCATION:Pine Hill Recreation Area\, 12684 Mentzer Gap Rd\, Waynesboro\, PA
UID:e.3398.11663
SEQUENCE:3
DTSTAMP:20260421T192540Z
URL:https://business.waynesboro.org/events/details/explore-painting-with-nature-11663
END:VEVENT

END:VCALENDAR
