BEGIN:VCALENDAR
VERSION:2.0
PRODID:-//ChamberMaster//Event Calendar 2.0//EN
METHOD:PUBLISH
X-PUBLISHED-TTL:P3D
REFRESH-INTERVAL:P3D
CALSCALE:GREGORIAN
BEGIN:VEVENT
DTSTART:20260708T140000Z
DTEND:20260708T153000Z
X-MICROSOFT-CDO-ALLDAYEVENT:FALSE
SUMMARY:EXPLORE! Insect Investigations
DESCRIPTION:Part of the EXPLORE series of outdoor adventure programs for kids in grades K to 5\, presented by Buttonwood Nature Center. Did you know a bug is different from an insect? Come learn all about insects in our Summer Explore series! We will go on a hike to look for insects and record what we see in nature journals. We will also create our own insects and build "bug hotels" that participants can take home to hang in their yard! Fee: $8 member of Buttonwood Nature Center\; $10 general public. Space is limited\; register online by July 1 at buttonwoodnaturecenter.org.
X-ALT-DESC;FMTTYPE=text/html:<p>Part of the EXPLORE series of outdoor adventure programs for kids in grades K to 5\, presented by Buttonwood Nature Center. Did you know a bug is different from an insect? Come learn all about insects in our Summer Explore series! We will go on a hike to look for insects and record what we see in nature journals. We will also create our own insects and build &ldquo\;bug hotels&rdquo\; that participants can take home to hang in their yard! Fee: $8 member of Buttonwood Nature Center\; $10 general public. Space is limited\; register online by July 1 at <a href="http://buttonwoodnaturecenter.org">buttonwoodnaturecenter.org</a>.</p>\n
LOCATION:Pine Hill Recreation Area\, 12684 Mentzer Gap Rd\, Waynesboro\, PA
UID:e.3398.11658
SEQUENCE:3
DTSTAMP:20260421T192538Z
URL:https://business.waynesboro.org/events/details/explore-insect-investigations-11658
END:VEVENT

END:VCALENDAR
