BEGIN:VCALENDAR
VERSION:2.0
PRODID:-//ChamberMaster//Event Calendar 2.0//EN
METHOD:PUBLISH
X-PUBLISHED-TTL:P3D
REFRESH-INTERVAL:P3D
CALSCALE:GREGORIAN
BEGIN:VEVENT
DTSTART:20260722T140000Z
DTEND:20260722T153000Z
X-MICROSOFT-CDO-ALLDAYEVENT:FALSE
SUMMARY:EXPLORE! Fun with Fairy Houses
DESCRIPTION:Part of the EXPLORE series of outdoor adventure programs for kids in grades K to 5\, presented by Buttonwood Nature Center. Join Buttonwood as we forage for materials in nature like leaves\, twigs and more to make fairy houses. We'll also read a story\, build fairy houses\, and stretch our imaginations while we spend time in nature. Fee: $8 member of Buttonwood Nature Center\; $10 general public. Space is limited. Register online by July 15 at buttonwoodnaturecenter.org.
X-ALT-DESC;FMTTYPE=text/html:<p>Part of the EXPLORE series of outdoor adventure programs for kids in grades K to 5\, presented by Buttonwood Nature Center. Join Buttonwood as we forage for materials in nature like leaves\, twigs and more to make fairy houses. We&rsquo\;ll also read a story\, build fairy houses\, and stretch our imaginations while we spend time in nature. Fee: $8 member of Buttonwood Nature Center\; $10 general public. Space is limited. Register online by July 15 at <a href="http://buttonwoodnaturecenter.org">buttonwoodnaturecenter.org</a>.</p>\n
LOCATION:Pine Hill Recreation Area\, 12684 Mentzer Gap Rd\, Waynesboro\, PA
UID:e.3398.11662
SEQUENCE:3
DTSTAMP:20260421T192549Z
URL:https://business.waynesboro.org/events/details/explore-fun-with-fairy-houses-11662
END:VEVENT

END:VCALENDAR
