BEGIN:VCALENDAR
VERSION:2.0
PRODID:-//ChamberMaster//Event Calendar 2.0//EN
METHOD:PUBLISH
X-PUBLISHED-TTL:P3D
REFRESH-INTERVAL:P3D
CALSCALE:GREGORIAN
BEGIN:VEVENT
DTSTART:20260715T140000Z
DTEND:20260715T153000Z
X-MICROSOFT-CDO-ALLDAYEVENT:FALSE
SUMMARY:EXPLORE! Basics of Birding
DESCRIPTION:Part of the EXPLORE series of outdoor adventure programs for kids in grades K to 5\, presented by Buttonwood Nature Center. Join a Buttonwood Naturalist to learn about the wonders of birdwatching! Participants will learn how to focus binoculars\, keep a field journal\, and identify bird songs. There will be a short activity to practice using binoculars\, followed by a bird walk and a fun craft. Fee: $8 member of Buttonwood Nature Center\; $10 general public. Space is limited. Register online by July 8 at buttonwoodnaturecenter.org.
X-ALT-DESC;FMTTYPE=text/html:<p>Part of the EXPLORE series of outdoor adventure programs for kids in grades K to 5\, presented by Buttonwood Nature Center. Join a Buttonwood Naturalist to learn about the wonders of birdwatching! Participants will learn how to focus binoculars\, keep a field journal\, and identify bird songs. There will be a short activity to practice using binoculars\, followed by a bird walk and a fun craft. Fee: $8 member of Buttonwood Nature Center\; $10 general public. Space is limited. Register online by July 8 at <a href="http://buttonwoodnaturecenter.org">buttonwoodnaturecenter.org</a>.</p>\n
LOCATION:Pine Hill Recreation Area\, 12684 Mentzer Gap Rd\, Waynesboro\, PA
UID:e.3398.11661
SEQUENCE:3
DTSTAMP:20260421T192540Z
URL:https://business.waynesboro.org/events/details/explore-basics-of-birding-11661
END:VEVENT

END:VCALENDAR
