BEGIN:VCALENDAR
VERSION:2.0
PRODID:-//ChamberMaster//Event Calendar 2.0//EN
METHOD:PUBLISH
X-PUBLISHED-TTL:P3D
REFRESH-INTERVAL:P3D
CALSCALE:GREGORIAN
BEGIN:VEVENT
DTSTART:20260609T130000Z
DTEND:20260609T180000Z
X-MICROSOFT-CDO-ALLDAYEVENT:FALSE
SUMMARY:Discover! Fly Fishing Adventure Camp
DESCRIPTION:For students completing grades 5 through age 17. Presented by Buttonwood Nature Center. During this 2-day summer camp at Orvis Hill Country\, campers will learn fly fishing essentials like gear and knots\, fly tying\, plus freshwater biology and aquatic "critters." Day one is macro lesson and intro to fly fishing\, day two is tying flies and practicing on the pond. The fee is $115 for members of Buttonwood Nature Center\, and $120 for the general public. Enrollment is limited and pre-registration is required by June 1. Register online at: buttonwoodnaturecenter.org.
X-ALT-DESC;FMTTYPE=text/html:<p>For students completing grades 5 through age 17. Presented by Buttonwood Nature Center. During this 2-day summer camp at Orvis Hill Country\, campers will learn fly fishing essentials like gear and knots\, fly tying\, plus freshwater biology and aquatic &ldquo\;critters.&rdquo\; Day one is macro lesson and intro to fly fishing\, day two is tying flies and practicing on the pond. The fee is $115 for members of Buttonwood Nature Center\, and $120 for the general public. Enrollment is&nbsp\;limited and pre-registration is required by June 1. Register online at: <a href="http://buttonwoodnaturecenter.org">buttonwoodnaturecenter.org</a>.</p>\n
LOCATION:Orvis Hill Country\, 519 Gladhill Rd\, Fairfield\, PA
UID:e.3398.11642
SEQUENCE:3
DTSTAMP:20260421T181021Z
URL:https://business.waynesboro.org/events/details/discover-fly-fishing-adventure-camp-06-09-2026-11642
END:VEVENT

END:VCALENDAR
