BEGIN:VCALENDAR
VERSION:2.0
PRODID:-//ChamberMaster//Event Calendar 2.0//EN
METHOD:PUBLISH
X-PUBLISHED-TTL:P3D
REFRESH-INTERVAL:P3D
CALSCALE:GREGORIAN
BEGIN:VEVENT
DTSTART:20260721T130000Z
DTEND:20260721T180000Z
X-MICROSOFT-CDO-ALLDAYEVENT:FALSE
SUMMARY:Discover! Advanced Fly Fishing Camp
DESCRIPTION:NOTE: Two locations for this 2-day summer camp! Campers must have completed a previous fly fishing camp\, or be experienced in the sport. For students completing grades 5 through age 17. Presented by Buttonwood Nature Center. This is an advanced fly fishing camp. First day is at Orvis Hill Country learning about macroinvertebrates and reviewing knot tying\, fly tying\, and fly casting. On Day 2\, we will be fly fishing all day at Tom's Creek in Carroll Valley Pa. The fee is $115 for members of Buttonwood Nature Center\, and $120 for the general public. Register by July 13.
X-ALT-DESC;FMTTYPE=text/html:<p><strong>NOTE: Two locations for this 2-day summer camp!</strong> Campers must have completed a previous fly fishing camp\, or be experienced in the sport. For students completing grades 5 through age 17. Presented by Buttonwood Nature Center. This is an advanced fly fishing camp. First day is at Orvis Hill Country learning about macroinvertebrates and reviewing knot tying\, fly tying\, and fly casting. On Day 2\, we will be fly fishing all day at Tom&rsquo\;s Creek in Carroll Valley Pa. The fee is $115 for members of Buttonwood Nature Center\, and $120 for the general public. Register by July 13.</p>\n
LOCATION:Orvis Hill Country\, 519 Gladhill Rd\, Fairfield\, PA (Day 1) AND Carroll Valley Park (Day 2)
UID:e.3398.11668
SEQUENCE:3
DTSTAMP:20260421T192705Z
URL:https://business.waynesboro.org/events/details/discover-advanced-fly-fishing-camp-07-21-2026-11668
END:VEVENT

END:VCALENDAR
