BEGIN:VCALENDAR
VERSION:2.0
PRODID:-//ChamberMaster//Event Calendar 2.0//EN
METHOD:PUBLISH
X-PUBLISHED-TTL:P3D
REFRESH-INTERVAL:P3D
CALSCALE:GREGORIAN
BEGIN:VEVENT
DTSTART:20260514T203000Z
DTEND:20260514T220000Z
X-MICROSOFT-CDO-ALLDAYEVENT:FALSE
SUMMARY:Candle Making Workshop @ The Vintage Flame
DESCRIPTION:May 14\, 4:30-6:00 PM\n\nMeet us at The Vintage Flame of Waynesboro\, where artist and shop owner Shauna Snidow will teach you everything you need to know to create your own candle. This time\, everyone will get a ceramic wax melter and make 4 tealights and 3 wax melt clamshells\, in any fragrance of your choice!\n\nLocation: The Vintage Flame\, 26 West Main St.\n\nCost: $15 / person\n\nRegistration required spaces are limited! Sign up at the library.
X-ALT-DESC;FMTTYPE=text/html:<p><span style="color:rgba(16\,15\,13\,var(--O42jJQ\,1))">May 14\, 4:30-6:00 PM</span></p>\n\n<p><span style="color:rgba(0\,0\,0\,var(--O42jJQ\,1))">Meet us at The Vintage Flame of Waynesboro\, where artist and shop owner Shauna Snidow will teach you everything you need to know to create your own candle. This time\, everyone will get a ceramic wax melter and make 4 tealights and 3 wax melt clamshells\, in any fragrance of your choice!</span></p>\n\n<p><span style="color:rgba(16\,15\,13\,var(--O42jJQ\,1))">Location: The Vintage Flame\,&nbsp\;</span><span style="color:rgba(16\,15\,13\,var(--O42jJQ\,1))">26 West Main St.</span></p>\n\n<p><span style="color:rgba(16\,15\,13\,var(--O42jJQ\,1))">Cost: $15 / person</span></p>\n\n<p><span style="color:rgba(16\,15\,13\,var(--O42jJQ\,1))">Registration required&mdash\;spaces are limited!</span><span style="color:rgba(16\,15\,13\,var(--O42jJQ\,1))"> </span><span style="color:rgba(16\,15\,13\,var(--O42jJQ\,1))">Sign up at the library.</span></p>\n
LOCATION:Alexander Hamilton Memorial Free Library 45 East Main Street Waynesboro\, PA 17268 (717) 762-3335
UID:e.3398.11657
SEQUENCE:3
DTSTAMP:20260421T175732Z
URL:https://business.waynesboro.org/events/details/candle-making-workshop-the-vintage-flame-11657
END:VEVENT

END:VCALENDAR
