BEGIN:VCALENDAR
VERSION:2.0
PRODID:-//ChamberMaster//Event Calendar 2.0//EN
METHOD:PUBLISH
X-PUBLISHED-TTL:P3D
REFRESH-INTERVAL:P3D
CALSCALE:GREGORIAN
BEGIN:VEVENT
DTSTART:20260506T190000Z
DTEND:20260506T200000Z
X-MICROSOFT-CDO-ALLDAYEVENT:FALSE
SUMMARY:BRICK RANCHER at 7935 Scenic Dr\, Shippensburg PA 17257
DESCRIPTION:BRICK RANCHER for PUBLIC AUCTION at 7935 Scenic Dr\, Shippensburg PA 17257 on May 6\, 2026 at 3pm. GREAT LOCATION near Rt 11 for easy commuting & just 2 miles to Shippensburg schools! 3 BR\, 1 bath\, LR\, eat in kitchen\, HW floors throughout\, sunroom\, 2-car garage\, full partially finished basement & more. \n\nOPEN HOUSE: Apr 25 & May 2\, 2-3pm  \n\nVIEW DETAILS: https://www.hurleyauctions.com/upcoming-auctions/7935-scenic-drive-shippensburg-pa/
X-ALT-DESC;FMTTYPE=text/html:BRICK RANCHER for PUBLIC AUCTION at 7935 Scenic Dr\, Shippensburg PA 17257 on May 6\, 2026 at 3pm. GREAT LOCATION near Rt 11 for easy commuting &amp\; just 2 miles to Shippensburg schools! 3 BR\, 1 bath\, LR\, eat in kitchen\, HW floors throughout\, sunroom\, 2-car garage\, full partially finished basement &amp\; more.&nbsp\;<br />\nOPEN HOUSE: Apr 25 &amp\; May 2\, 2-3pm&nbsp\;&nbsp\;<br />\nVIEW DETAILS: https://www.hurleyauctions.com/upcoming-auctions/7935-scenic-drive-shippensburg-pa/<br />\n<br />\n<br />\n&nbsp\;
LOCATION:7935 Scenic Dr\, Shippensburg PA 17257
UID:e.3398.11670
SEQUENCE:3
DTSTAMP:20260421T221328Z
URL:https://business.waynesboro.org/events/details/brick-rancher-at-7935-scenic-dr-shippensburg-pa-17257-11670
END:VEVENT

END:VCALENDAR
