BEGIN:VCALENDAR
VERSION:2.0
PRODID:-//ChamberMaster//Event Calendar 2.0//EN
METHOD:PUBLISH
X-PUBLISHED-TTL:P3D
REFRESH-INTERVAL:P3D
CALSCALE:GREGORIAN
BEGIN:VEVENT
DTSTART:20341216T140000Z
DTEND:20341216T160000Z
X-MICROSOFT-CDO-ALLDAYEVENT:FALSE
SUMMARY:Breakfast with Santa
DESCRIPTION:Santa Claus is making a special trip to Fort Ritchie Community Center and he's hungry for holiday fun! Join us for a festive morning filled with delicious food\, Christmas cheer\, and a visit from the big guy himself.\n\nTickets will be available in October 2026\n\nBring your wish list to share with Santa and capture magical holiday memories with your family.\n\nLimited seating available   tickets required!\n\nAn adult must accompany all children.\n\nDon't miss this merry morning at Fort Ritchie Community Center it's the perfect way to round off the holiday season!
X-ALT-DESC;FMTTYPE=text/html:<p>Santa Claus is making a special trip to Fort Ritchie Community Center&mdash\;and he&rsquo\;s hungry for holiday fun! Join us for a&nbsp\;festive morning filled with delicious food\, Christmas cheer\, and a visit from the big guy himself.</p>\n\n<p>Tickets will be available in October 2026</p>\n\n<p>Bring your wish list to share with Santa and capture magical holiday memories with your family.</p>\n\n<p>Limited seating available &mdash\; tickets required!<br />\nAn adult must accompany all children.</p>\n\n<p>Don&rsquo\;t miss this merry morning at Fort Ritchie Community Center&mdash\;it&rsquo\;s the perfect way to round off the holiday season!</p>\n
LOCATION:14421 Lake Royer Drive\, Cascade\, MD 21719
UID:e.3398.11684
SEQUENCE:3
DTSTAMP:20260424T004029Z
URL:https://business.waynesboro.org/events/details/breakfast-with-santa-12-16-2034-11684
END:VEVENT

END:VCALENDAR
