BEGIN:VCALENDAR
VERSION:2.0
PRODID:-//ChamberMaster//Event Calendar 2.0//EN
METHOD:PUBLISH
X-PUBLISHED-TTL:P3D
REFRESH-INTERVAL:P3D
CALSCALE:GREGORIAN
BEGIN:VEVENT
DTSTART:20260530T140000Z
DTEND:20260530T150000Z
X-MICROSOFT-CDO-ALLDAYEVENT:FALSE
SUMMARY:Birding for Beginners: Intro to Birding for Teens & Adults
DESCRIPTION:Calling all prospective birders. Are you new to birding but want to learn? Join Buttonwood educators as we delve into the basics of birding. You'll learn how to use binoculars properly when birding and maybe spot some of our fine feathered friends like common warblers\, finches or other birds. Local birding groups have spotted up to 60 different species in the park how many will you spot? Participants should wear comfortable walking shoes. Designed for teens & adults age 15 and up. Limit 20 participants. Program is free but registration is required. Register online.
X-ALT-DESC;FMTTYPE=text/html:<p>Calling all prospective birders. Are you new to birding but want to learn? Join Buttonwood educators as we delve into the basics of birding. You&rsquo\;ll learn how to use binoculars properly when birding and maybe spot some of our fine feathered friends like common warblers\, finches or other birds. Local birding groups have spotted up to 60 different species in the park&mdash\;how many will you spot? Participants should wear comfortable walking shoes. Designed for teens &amp\; adults age 15 and up. Limit 20 participants. Program is free but registration is required. Register online.</p>\n
LOCATION:Buttonwood Nature Center\, 10356 Amsterdam Road\, Waynesboro\, Pa.
UID:e.3398.11632
SEQUENCE:3
DTSTAMP:20260421T180641Z
URL:https://business.waynesboro.org/events/details/birding-for-beginners-intro-to-birding-for-teens-adults-11632
END:VEVENT

END:VCALENDAR
