BEGIN:VCALENDAR
VERSION:2.0
PRODID:-//ChamberMaster//Event Calendar 2.0//EN
METHOD:PUBLISH
X-PUBLISHED-TTL:P3D
REFRESH-INTERVAL:P3D
CALSCALE:GREGORIAN
BEGIN:VEVENT
DTSTART:20260523T140000Z
DTEND:20260523T150000Z
X-MICROSOFT-CDO-ALLDAYEVENT:FALSE
SUMMARY:Birding for Beginners: Intro to Birding for Families
DESCRIPTION:Calling all prospective birders. Are you new to birding but want to learn? Join Buttonwood educators as we delve into the basics of birding. You'll learn how to use binoculars properly when birding and maybe spot some of our fine feathered friends like common warblers\, finches or other birds. Local birding groups have spotted up to 60 different species in the park how many will you spot? Participants should wear comfortable walking shoes. Program is free but registration is required. Limit 20. All ages welcome\, but parent/guardian must accompany children. Register online.
X-ALT-DESC;FMTTYPE=text/html:<p>Calling all prospective birders. Are you new to birding but want to learn? Join Buttonwood educators as we delve into the basics of birding. You&rsquo\;ll learn how to use binoculars properly when birding and maybe spot some of our fine feathered friends like common warblers\, finches or other birds. Local birding groups have spotted up to 60 different species in the park&mdash\;how many will you spot? Participants should wear comfortable walking shoes. Program is free but registration is required. Limit 20. All ages welcome\, but parent/guardian must accompany children. Register online.</p>\n
LOCATION:Buttonwood Nature Center\, 10356 Amsterdam Road\, Waynesboro\, Pa.
UID:e.3398.11631
SEQUENCE:3
DTSTAMP:20260421T180738Z
URL:https://business.waynesboro.org/events/details/birding-for-beginners-intro-to-birding-for-families-11631
END:VEVENT

END:VCALENDAR
