BEGIN:VCALENDAR
VERSION:2.0
PRODID:-//ChamberMaster//Event Calendar 2.0//EN
METHOD:PUBLISH
X-PUBLISHED-TTL:P3D
REFRESH-INTERVAL:P3D
CALSCALE:GREGORIAN
BEGIN:VEVENT
DTSTART:20260626T213000Z
DTEND:20260627T010000Z
X-MICROSOFT-CDO-ALLDAYEVENT:FALSE
SUMMARY:Bay Supper Fundraiser
DESCRIPTION:Here's an event that's definitely all it's cracked up to be! Experience a traditional "crab feast" dinner and live and silent auctions during this annual fundraising event. Doors Open 5:30 p.m.\, dinner at 6:45. Members\, friends\, and families come together to support Buttonwood Nature Center with a fabulous evening of food\, fun\, and frolic featuring steamed crabs from the Bay\, shrimp\, delectable side dishes\, dessert\, and Bay-related activities. Bid it up on lots of great items during the silent and live auctions. Reservations required. Tickets: $100 per person\; $115/Patron. Call 717-762-0373\, email to jessica@buttonwoodnaturecenter.org or visit www.buttonwoodnaturecenter.org for more information and an online option for reservations.
X-ALT-DESC;FMTTYPE=text/html:<p>Here&rsquo\;s an event that&rsquo\;s definitely all it&rsquo\;s cracked up to be! Experience a traditional &ldquo\;crab feast&rdquo\; dinner and live and silent auctions during this annual fundraising event. Doors Open 5:30 p.m.\, dinner at 6:45. Members\, friends\, and families come together to support Buttonwood Nature Center with a fabulous evening of food\, fun\, and frolic featuring steamed crabs from the Bay\, shrimp\, delectable side dishes\, dessert\, and Bay-related activities. Bid it up on lots of great items during the silent and live auctions. Reservations required. Tickets: $100 per person\; $115/Patron. Call 717-762-0373\, email to <a href="mailto:jessica@buttonwoodnaturecenter.org">jessica@buttonwoodnaturecenter.org</a> or visit www.buttonwoodnaturecenter.org for more information and an online option for reservations.</p>\n
LOCATION:Waynesboro Country Club\, 11000 Country Club Rd\, Waynesboro\, PA
UID:e.3398.11654
SEQUENCE:3
DTSTAMP:20260421T180600Z
URL:https://business.waynesboro.org/events/details/bay-supper-fundraiser-06-26-2026-11654
END:VEVENT

END:VCALENDAR
