BEGIN:VCALENDAR
VERSION:2.0
PRODID:-//ChamberMaster//Event Calendar 2.0//EN
METHOD:PUBLISH
X-PUBLISHED-TTL:P3D
REFRESH-INTERVAL:P3D
CALSCALE:GREGORIAN
BEGIN:VEVENT
DTSTART:20260502T140000Z
DTEND:20260502T190000Z
X-MICROSOFT-CDO-ALLDAYEVENT:FALSE
SUMMARY:AHMFL Friends of the Library Book Sale
DESCRIPTION:Support the AHMFL Friends of the Library by shopping at the Spring Book Sale!  The location is on the sidewalk outside the library's Main Street entrance and is part of Spring Fest Market Day.  You'll find books\, DVDs\, audiobooks\, and puzzles for sale!\n\nProceeds benefit the library.\n\nHardcovers $2\n\nPaperbacks $1\n\nChildren's $1
X-ALT-DESC;FMTTYPE=text/html:Support the AHMFL Friends of the Library by shopping at the Spring Book Sale!&nbsp\; The location is on the sidewalk outside the library&#39\;s Main Street entrance and is part of Spring Fest Market Day.&nbsp\; You&#39\;ll find books\, DVDs\, audiobooks\, and puzzles for sale!<br />\nProceeds benefit the library.<br />\nHardcovers $2<br />\nPaperbacks $1<br />\nChildren&#39\;s $1
LOCATION:Alexander Hamilton Memorial Free Library - sidewalk out front 45 East Main Street Waynesboro\, PA 17268 (717) 762-3335
UID:e.3398.11628
SEQUENCE:3
DTSTAMP:20260421T180042Z
URL:https://business.waynesboro.org/events/details/ahmfl-friends-of-the-library-book-sale-11628
END:VEVENT

END:VCALENDAR
