BEGIN:VCALENDAR
VERSION:2.0
PRODID:-//ChamberMaster//Event Calendar 2.0//EN
METHOD:PUBLISH
X-PUBLISHED-TTL:P3D
REFRESH-INTERVAL:P3D
CALSCALE:GREGORIAN
BEGIN:VEVENT
DTSTART:20211219T210000Z
DTEND:20211219T230000Z
X-MICROSOFT-CDO-ALLDAYEVENT:FALSE
SUMMARY:Winter Solstice Celebration
DESCRIPTION:The Institute's second annual Winter Solstice Celebration\, marking the longest night or shortest day of the year\, which falls on December 21 this year in the Northern Hemisphere. Since ancient times\, people all over the world have recognized this important astronomical occurrence and celebrated the "return of the sun" in a variety of ways. After the solstice\, the days get gradually longer.  Join this family-friendly celebration of the season with winter folktale storyteller Bruce Rowland\, hands-on solstice activities for children including making garlands of popcorn and berries and edible ornaments for animals\, live music\, fire-pit warming stations\, and hot chocolate stations. Members of the Tri-State Astronomers club will be on hand with telescopes to observe the winter skies. After sunset\, there will be opportunities to view the celestial features of the winter sky. Vendors and specific details are to be announced. The entire event is outdoors\, so dress accordingly. For questions\, email us at info@natureandcultureinstitute.org
X-ALT-DESC;FMTTYPE=text/html:The Institute&rsquo\;s second annual Winter Solstice Celebration\, marking the longest night&mdash\;or shortest day&mdash\;of the year\, which falls on December 21 this year in the Northern Hemisphere. Since ancient times\, people all over the world have recognized this important astronomical occurrence and celebrated the &ldquo\;return of the sun&rdquo\; in a variety of ways. After the solstice\, the days get gradually longer.&nbsp\; Join this family-friendly celebration of the season with winter folktale storyteller Bruce Rowland\, hands-on solstice activities for children including making garlands of popcorn and berries and edible ornaments for animals\, live music\, fire-pit warming stations\, and hot chocolate stations. Members of the Tri-State Astronomers club will be on hand with telescopes to observe the winter skies. After sunset\, there will be opportunities to view the celestial features of the winter sky. Vendors and specific details are to be announced. The entire event is outdoors\, so dress accordingly. For questions\, email us at info@natureandcultureinstitute.org
LOCATION:Red Run Park near Waynesboro\, PA
UID:e.3398.1620
SEQUENCE:3
DTSTAMP:20260420T094212Z
URL:http://business.waynesboro.org/events/details/winter-solstice-celebration-1620
END:VEVENT

END:VCALENDAR
