BEGIN:VCALENDAR
VERSION:2.0
PRODID:-//ChamberMaster//Event Calendar 2.0//EN
METHOD:PUBLISH
X-PUBLISHED-TTL:P3D
REFRESH-INTERVAL:P3D
CALSCALE:GREGORIAN
BEGIN:VEVENT
DTSTART;VALUE=DATE:20200807
DTEND;VALUE=DATE:20200809
TRANSP:TRANSPARENT
X-MICROSOFT-CDO-ALLDAYEVENT:TRUE
SUMMARY:Waynesboro Wizarding Festival
DESCRIPTION:Join Mainstreet Waynesboro's witches and wizards for a magical weekend in Borogon Alley. Enjoy tea\, candy\, a scavenger hunt\, paint parties\, free movies at Waynesboro Theatre and Main Street Park\, vendors and more.
X-ALT-DESC;FMTTYPE=text/html:Join Mainstreet Waynesboro&#39\;s witches and wizards for a magical weekend in Borogon Alley. Enjoy tea\, candy\, a scavenger hunt\, paint parties\, free movies at Waynesboro Theatre and Main Street Park\, vendors and more.
LOCATION:Mainstreet Park
UID:e.3398.327
SEQUENCE:3
DTSTAMP:20260421T082453Z
URL:http://business.waynesboro.org/events/details/waynesboro-wizarding-festival-327
END:VEVENT

END:VCALENDAR
