BEGIN:VCALENDAR
VERSION:2.0
PRODID:-//ChamberMaster//Event Calendar 2.0//EN
METHOD:PUBLISH
X-PUBLISHED-TTL:P3D
REFRESH-INTERVAL:P3D
CALSCALE:GREGORIAN
BEGIN:VEVENT
DTSTART:20190413T200000Z
DTEND:20190414T030000Z
X-MICROSOFT-CDO-ALLDAYEVENT:FALSE
SUMMARY:Waynesboro Area Gala Cancer Auction
DESCRIPTION:38th Annual WAGCA - Oral and silent auctions to benefit the American Cancer Society\, Oncology Bridge Fund\, Hennessy Home\, LIVESTRONG Program at the YMCA\, and Hope Lodges in Hershey and Philadelphia.
X-ALT-DESC;FMTTYPE=text/html:38th Annual WAGCA - Oral and silent auctions to benefit the American Cancer Society\, Oncology Bridge Fund\, Hennessy Home\, LIVESTRONG Program at the YMCA\, and Hope Lodges in Hershey and Philadelphia.
LOCATION:Green Grove Gardens
UID:e.3398.9
SEQUENCE:3
DTSTAMP:20260420T070807Z
URL:http://business.waynesboro.org/events/details/waynesboro-area-gala-cancer-auction-9
END:VEVENT

END:VCALENDAR
