BEGIN:VCALENDAR
VERSION:2.0
PRODID:-//ChamberMaster//Event Calendar 2.0//EN
METHOD:PUBLISH
X-PUBLISHED-TTL:P3D
REFRESH-INTERVAL:P3D
CALSCALE:GREGORIAN
BEGIN:VEVENT
DTSTART:20190913T220000Z
DTEND:20190914T030000Z
X-MICROSOFT-CDO-ALLDAYEVENT:FALSE
SUMMARY:Valley Dinner/Dance
DESCRIPTION:Come and make new friends\, enjoy dinner\, and music/dancing. We have four events each year in Waynesboro. Contact drcmstill@gmail.com for an informational newsletter.
X-ALT-DESC;FMTTYPE=text/html:Come and make new friends\, enjoy dinner\, and music/dancing. We have four events each year in Waynesboro. Contact drcmstill@gmail.com for an informational newsletter.
LOCATION:Waynesboro Country Club
UID:e.3398.232
SEQUENCE:3
DTSTAMP:20260420T000646Z
URL:http://business.waynesboro.org/events/details/valley-dinner-dance-232
END:VEVENT

END:VCALENDAR
