BEGIN:VCALENDAR
VERSION:2.0
PRODID:-//ChamberMaster//Event Calendar 2.0//EN
METHOD:PUBLISH
X-PUBLISHED-TTL:P3D
REFRESH-INTERVAL:P3D
CALSCALE:GREGORIAN
BEGIN:VEVENT
DTSTART:20191017T220000Z
DTEND:20191018T000000Z
X-MICROSOFT-CDO-ALLDAYEVENT:FALSE
SUMMARY:The Bad Shape of Our Elections: Why Redistricting Reform Matters
DESCRIPTION:Fair Districts Pennsylvania Gerrymandering Informational Presentation Franklin County FDPA is hosting a public education program on reforming Pennsylvania's redistricting process. Fair Districts PA speakerTony Crocamo will explain PA's current redistricting process\, demonstrate how it undermines democracy\, and then offer a solution to the problem. Tony will also discuss the legislation in Harrisburg and FDPA's strategy going forward.
X-ALT-DESC;FMTTYPE=text/html:Fair Districts Pennsylvania Gerrymandering Informational Presentation Franklin County FDPA is hosting a public education program on reforming Pennsylvania&#39\;s redistricting process. Fair Districts PA speakerTony Crocamo will explain PA&#39\;s current redistricting process\, demonstrate how it undermines democracy\, and then offer a solution to the problem. Tony will also discuss the legislation in Harrisburg and FDPA&#39\;s strategy going forward.
LOCATION:Alexander Hamilton Free Library/Community Room 45 E. Main St. Waynesboro\, Pa
UID:e.3398.305
SEQUENCE:3
DTSTAMP:20260419T223837Z
URL:http://business.waynesboro.org/events/details/the-bad-shape-of-our-elections-why-redistricting-reform-matters-305
END:VEVENT

END:VCALENDAR
