BEGIN:VCALENDAR
VERSION:2.0
PRODID:-//ChamberMaster//Event Calendar 2.0//EN
METHOD:PUBLISH
X-PUBLISHED-TTL:P3D
REFRESH-INTERVAL:P3D
CALSCALE:GREGORIAN
BEGIN:VEVENT
DTSTART:20190423T220000Z
DTEND:20190424T010000Z
X-MICROSOFT-CDO-ALLDAYEVENT:FALSE
SUMMARY:Ribbon Cutting / Open House
DESCRIPTION:Herbert\, Rowland & Grubic\, Inc. will host a ribbon cutting and open house at their new location.
X-ALT-DESC;FMTTYPE=text/html:Herbert\, Rowland &amp\; Grubic\, Inc. will host a ribbon cutting and open house at their new location.
LOCATION:207 Grant Street Chambersburg\, PA 17201
UID:e.3398.28
SEQUENCE:3
DTSTAMP:20260420T070639Z
URL:http://business.waynesboro.org/events/details/ribbon-cutting-open-house-28
END:VEVENT

END:VCALENDAR
