BEGIN:VCALENDAR
VERSION:2.0
PRODID:-//ChamberMaster//Event Calendar 2.0//EN
METHOD:PUBLISH
X-PUBLISHED-TTL:P3D
REFRESH-INTERVAL:P3D
CALSCALE:GREGORIAN
BEGIN:VEVENT
DTSTART:20190316T220000Z
DTEND:20190317T020000Z
X-MICROSOFT-CDO-ALLDAYEVENT:FALSE
SUMMARY:Nite at the Races
DESCRIPTION:Come out and celebrate St. Patrick's Day with us at A Nite at the Races!\n\nThis is a community event where we watch pre-recorded horse races and every ticket holder gets "play Money" to bet on the ponies for GREAT prises! and GREAT fun!\n\nSilent Auction\, Hat contest and lots of prises!\n\nPlease dress in your finest Derby Attire!
X-ALT-DESC;FMTTYPE=text/html:Come out and celebrate St. Patrick&#39\;s Day with us at A Nite at the Races!<br />\nThis is a community event where we watch pre-recorded horse races and every ticket holder gets &quot\;play Money&quot\; to bet on the ponies for GREAT prises! and GREAT fun!<br />\nSilent Auction\, Hat contest and lots of prises!<br />\nPlease dress in your finest Derby Attire!
LOCATION:Green Grove Gardens Event Center 1032 Buchanan Trail East Greencastle PA 17225
UID:e.3398.4
SEQUENCE:3
DTSTAMP:20260422T084652Z
URL:http://business.waynesboro.org/events/details/nite-at-the-races-4
END:VEVENT

END:VCALENDAR
