BEGIN:VCALENDAR
VERSION:2.0
PRODID:-//ChamberMaster//Event Calendar 2.0//EN
METHOD:PUBLISH
X-PUBLISHED-TTL:P3D
REFRESH-INTERVAL:P3D
CALSCALE:GREGORIAN
BEGIN:VEVENT
DTSTART:20191103T160000Z
DTEND:20191103T210000Z
X-MICROSOFT-CDO-ALLDAYEVENT:FALSE
SUMMARY:Longrifle Show & Sale
DESCRIPTION:Large Display of Early American Longrifles & Accouterments: Renfrew Museum and Park is pleased to present this very special event featuring examples of Pennsylvania and Kentucky longrifles from Franklin County and the surrounding region. Discover the beauty\, craftsmanship\, and heritage of these antique firearms\, each a unique work of art. Show will include exhibits of period longrifles by gunsmiths from Franklin\, Huntington\, Adams\, Cumberland\, Bedford\, and Perry Counties. Learn about Renfrew's longrifle collection initiative as you peruse items from our collection. Experts from Kentucky Rifle Association will also be present to share their knowledge with you. Join us at 2:00pm for a formal dedication of a ten-rifle display case custom-built for Renfrew by Wayne Martz and Bob Crouse. Museum House tours are also available on the hour at 1:00pm\, 2:00pm\, and 3:00pm. Tour admission is $6 for adults ages 18+\, $5 for seniors ages 65+\, and $4 for children ages 12-17. Children under age 12 are free of charge. Refreshments will be available for purchase.
X-ALT-DESC;FMTTYPE=text/html:Large Display of Early American Longrifles &amp\; Accouterments: Renfrew Museum and Park is pleased to present this very special event featuring examples of Pennsylvania and Kentucky longrifles from Franklin County and the surrounding region. Discover the beauty\, craftsmanship\, and heritage of these antique firearms\, each a unique work of art. Show will include exhibits of period longrifles by gunsmiths from Franklin\, Huntington\, Adams\, Cumberland\, Bedford\, and Perry Counties. Learn about Renfrew&rsquo\;s longrifle collection initiative as you peruse items from our collection. Experts from Kentucky Rifle Association will also be present to share their knowledge with you. Join us at 2:00pm for a formal dedication of a ten-rifle display case custom-built for Renfrew by Wayne Martz and Bob Crouse. Museum House tours are also available on the hour at 1:00pm\, 2:00pm\, and 3:00pm. Tour admission is $6 for adults ages 18+\, $5 for seniors ages 65+\, and $4 for children ages 12-17. Children under age 12 are free of charge. Refreshments will be available for purchase.
LOCATION:Renfrew Museum and Park 1010 E. Main Street Waynesboro\, PA 17268
UID:e.3398.309
SEQUENCE:3
DTSTAMP:20260419T210455Z
URL:http://business.waynesboro.org/events/details/longrifle-show-sale-309
END:VEVENT

END:VCALENDAR
