BEGIN:VCALENDAR
VERSION:2.0
PRODID:-//ChamberMaster//Event Calendar 2.0//EN
METHOD:PUBLISH
X-PUBLISHED-TTL:P3D
REFRESH-INTERVAL:P3D
CALSCALE:GREGORIAN
BEGIN:VEVENT
DTSTART:20190417T220000Z
DTEND:20190418T000000Z
X-MICROSOFT-CDO-ALLDAYEVENT:FALSE
SUMMARY:Herb or Succulant
DESCRIPTION:Join Tracy at the Ceramics Art Studio studio and create a one-of-a-kind pot for your favorite herb or succulent on Wednesday\, April 17th from 6:00-8:00 pm at the Ceramic Arts Center\, located at 13 S. Center Street\, Waynesboro\, PA 17268. Tracy will guide you step by step as you design and build a beautiful pot to place in your window or to give as a gift. Personalize your pot with dragonflies\, butterflies or whatever your imagination comes up with. It will be made from durable speckled stoneware clay and is decorated with bright underglazes. This workshop is $30.00 and includes the instruction\, materials\, glazes and firings.For more information e-mail Mary Ashe-Mahr at waynesboroceramics@gmail.com or call 717-372-7906. Private Corks and Clay sessions can be scheduled through the Ceramics Arts Center. Gather your own group of 6 or more friends to get muddy with us! Host joins session for free with 6 registered guests. Note: Free Parking is available on the street after 5:00\, or in the Lutheran Church's parking lot just down the street from the Ceramic Arts Center.
X-ALT-DESC;FMTTYPE=text/html:Join Tracy at the Ceramics Art Studio studio and create a one-of-a-kind pot for your favorite herb or succulent on Wednesday\, April 17th from 6:00-8:00 pm at the Ceramic Arts Center\, located at 13 S. Center Street\, Waynesboro\, PA 17268. Tracy will guide you step by step as you design and build a beautiful pot to place in your window or to give as a gift. Personalize your pot with dragonflies\, butterflies or whatever your imagination comes up with. It will be made from durable speckled stoneware clay and is decorated with bright underglazes. This workshop is $30.00 and includes the instruction\, materials\, glazes and firings.For more information e-mail Mary Ashe-Mahr at waynesboroceramics@gmail.com or call 717-372-7906. Private Corks and Clay sessions can be scheduled through the Ceramics Arts Center. Gather your own group of 6 or more friends to get muddy with us! Host joins session for free with 6 registered guests. Note:&nbsp\;Free Parking is available on the street after 5:00\, or in the Lutheran Church&rsquo\;s parking lot just down the street from the Ceramic Arts Center.
LOCATION:Ceramic Arts Center
UID:e.3398.29
SEQUENCE:3
DTSTAMP:20260420T070428Z
URL:http://business.waynesboro.org/events/details/herb-or-succulant-29
END:VEVENT

END:VCALENDAR
