BEGIN:VCALENDAR
VERSION:2.0
PRODID:-//ChamberMaster//Event Calendar 2.0//EN
METHOD:PUBLISH
X-PUBLISHED-TTL:P3D
REFRESH-INTERVAL:P3D
CALSCALE:GREGORIAN
BEGIN:VEVENT
DTSTART:20190614T160000Z
DTEND:20190614T220000Z
X-MICROSOFT-CDO-ALLDAYEVENT:FALSE
SUMMARY:Greater Waynesboro Chamber of Commerce Golf Tournament
DESCRIPTION:
X-ALT-DESC;FMTTYPE=text/html:
LOCATION:
UID:e.3398.229
SEQUENCE:3
DTSTAMP:20260420T053641Z
URL:http://business.waynesboro.org/events/details/greater-waynesboro-chamber-of-commerce-golf-tournament-229
END:VEVENT

END:VCALENDAR
