BEGIN:VCALENDAR
VERSION:2.0
PRODID:-//ChamberMaster//Event Calendar 2.0//EN
METHOD:PUBLISH
X-PUBLISHED-TTL:P3D
REFRESH-INTERVAL:P3D
CALSCALE:GREGORIAN
BEGIN:VEVENT
DTSTART:20190418T210000Z
DTEND:20190418T220000Z
X-MICROSOFT-CDO-ALLDAYEVENT:FALSE
SUMMARY:Get Fit Now
DESCRIPTION:Join the Get Fit Now program to help you develop a healthier lifestyle. Using a combination of FitBit technology and supportive group sessions\, learn strategies to help you improve your health. Payment of $60 to Summit Health is required up front and will be reimbursed after attending all 5 weekly classes. Open to adults age 18 years and older.
X-ALT-DESC;FMTTYPE=text/html:Join the Get Fit Now program to help you develop a healthier lifestyle. Using a combination of FitBit technology and supportive group sessions\, learn strategies to help you improve your health. Payment of $60 to Summit Health is required up front and will be reimbursed after attending all 5 weekly classes. Open to adults age 18 years and older.
LOCATION:Waynesboro Hospital Family Birthing Services Classroom
UID:e.3398.33
SEQUENCE:3
DTSTAMP:20260420T070614Z
URL:http://business.waynesboro.org/events/details/get-fit-now-04-18-2019-33
END:VEVENT

END:VCALENDAR
