BEGIN:VCALENDAR
VERSION:2.0
PRODID:-//ChamberMaster//Event Calendar 2.0//EN
METHOD:PUBLISH
X-PUBLISHED-TTL:P3D
REFRESH-INTERVAL:P3D
CALSCALE:GREGORIAN
BEGIN:VEVENT
DTSTART:20190420T150000Z
DTEND:20190420T160000Z
X-MICROSOFT-CDO-ALLDAYEVENT:FALSE
SUMMARY:Egg Hunt/Bunny Lunch
DESCRIPTION:Free Egg Hunt and Bunny Lunch
X-ALT-DESC;FMTTYPE=text/html:Free Egg Hunt and Bunny Lunch
LOCATION:Rouzerville United Methodist Church 11977 Old Rt 16 Waynesboro
UID:e.3398.27
SEQUENCE:3
DTSTAMP:20260420T070459Z
URL:http://business.waynesboro.org/events/details/egg-hunt-bunny-lunch-27
END:VEVENT

END:VCALENDAR
