BEGIN:VCALENDAR
VERSION:2.0
PRODID:-//ChamberMaster//Event Calendar 2.0//EN
METHOD:PUBLISH
X-PUBLISHED-TTL:P3D
REFRESH-INTERVAL:P3D
CALSCALE:GREGORIAN
BEGIN:VEVENT
DTSTART:20191003T140000Z
DTEND:20191005T160000Z
X-MICROSOFT-CDO-ALLDAYEVENT:FALSE
SUMMARY:Children's & Maternity Consignment Event
DESCRIPTION:Shop over 20\,000 new and gently used children's & maternity items at the Fall and Winter event October 3rd-5th. Clothing (newborn-teens)\, shoes/boots\, Halloween costumes\, Christmas outfits\, all baby equipment\, strollers\, high chairs\, books\, toys\, and so much more!
X-ALT-DESC;FMTTYPE=text/html:Shop over 20\,000 new and gently used children&#39\;s &amp\; maternity items at the Fall and Winter event October 3rd-5th. Clothing (newborn-teens)\, shoes/boots\, Halloween costumes\, Christmas outfits\, all baby equipment\, strollers\, high chairs\, books\, toys\, and so much more!
LOCATION:Blue Heron Events 407 S Washington Street Greencastle\, PA 17225
UID:e.3398.304
SEQUENCE:3
DTSTAMP:20260419T235128Z
URL:http://business.waynesboro.org/events/details/children-s-maternity-consignment-event-304
END:VEVENT

END:VCALENDAR
