BEGIN:VCALENDAR
VERSION:2.0
PRODID:-//ChamberMaster//Event Calendar 2.0//EN
METHOD:PUBLISH
X-PUBLISHED-TTL:P3D
REFRESH-INTERVAL:P3D
CALSCALE:GREGORIAN
BEGIN:VEVENT
DTSTART:20190725T210000Z
DTEND:20190725T230000Z
X-MICROSOFT-CDO-ALLDAYEVENT:FALSE
SUMMARY:Chamber Mixer: Farmer's Insurance
DESCRIPTION:Network with Farmer's Insurance Business Leaders\n\n and learn more about their organization\, products and services!\n\n \n\nIn 1928\, two men shared a dream of providing a quality insurance product at a reasonable price. In the decades that followed they've grown and adapted to meet the changing needs of Americans. But one constant has remained: they have an unwavering commitment to uphold their founding ideals to provide industry-leading products and first-rate services to the customers they're privileged to serve.\n\n \n\nThe Chamber encourages you to attend this mixer at Farmer's Insurance. Lite refreshments and beverages will be served.\n\n\n\nOffering auto\, home\, life and specializing in business polices.
X-ALT-DESC;FMTTYPE=text/html:<p style="margin: 0px\; font-stretch: normal\; font-size: 24px\; line-height: normal\; font-family: Futura\;"><span style="font-size:14px\;"><span style="font-family:arial\;">Network with&nbsp\;Farmer&rsquo\;s Insurance&nbsp\;Business Leaders<br />\n&hellip\;and learn more about their organization\, products and services!<br />\n&nbsp\;<br />\nIn 1928\, two men shared a dream of providing a quality insurance product at a reasonable price. In the decades that followed they&rsquo\;ve grown and adapted to meet the changing needs of Americans. But one constant has remained: they have an unwavering commitment to uphold their founding ideals to provide industry-leading products and first-rate services to the customers they&rsquo\;re privileged to serve.<br />\n&nbsp\;<br />\nThe Chamber encourages you to attend this mixer at Farmer&rsquo\;s Insurance. Lite refreshments and beverages will be served.<br />\n<br />\nOffering auto\, home\, life and specializing in business polices.</span></span><br />\n&nbsp\;</p>\n
LOCATION:1404 E. Main Street Waynesboro\, PA 17268
UID:e.3398.231
SEQUENCE:3
DTSTAMP:20260420T025802Z
URL:http://business.waynesboro.org/events/details/chamber-mixer-farmer-s-insurance-231
END:VEVENT

END:VCALENDAR
