BEGIN:VCALENDAR
VERSION:2.0
PRODID:-//ChamberMaster//Event Calendar 2.0//EN
METHOD:PUBLISH
X-PUBLISHED-TTL:P3D
REFRESH-INTERVAL:P3D
CALSCALE:GREGORIAN
BEGIN:VEVENT
DTSTART:20190829T213000Z
DTEND:20190830T003000Z
X-MICROSOFT-CDO-ALLDAYEVENT:FALSE
SUMMARY:99th Annual Chamber Banquet
DESCRIPTION:99th Annual Chamber Banquet\n\nUnder The Tuscan Sun
X-ALT-DESC;FMTTYPE=text/html:99th Annual Chamber Banquet<br />\nUnder The Tuscan Sun
LOCATION:11000 Country Club Rd. Waynesboro Country Club
UID:e.3398.234
SEQUENCE:3
DTSTAMP:20260420T013144Z
URL:http://business.waynesboro.org/events/details/99th-annual-chamber-banquet-234
END:VEVENT

END:VCALENDAR
