BEGIN:VCALENDAR
VERSION:2.0
PRODID:-//ChamberMaster//Event Calendar 2.0//EN
METHOD:PUBLISH
X-PUBLISHED-TTL:P3D
REFRESH-INTERVAL:P3D
CALSCALE:GREGORIAN
BEGIN:VEVENT
DTSTART:20191019T150000Z
DTEND:20191019T200000Z
X-MICROSOFT-CDO-ALLDAYEVENT:FALSE
SUMMARY:26th Annual Pumpkin Festival
DESCRIPTION:Pumpkin Festival has become a family tradition at Renfrew! Visitors enjoy the exciting pumpkin-chuckin' trebuchet\, pumpkin carving\, hayrides\, live music\, children's activities and fun games at this popular joint fundraising event co-sponsored by Renfrew Museum and Park and The Institute at Renfrew. Free soup\, cider\, and bread included with admission fee. Hot dogs\, sodas\, and bake sale items sold separately. Admission fee $10 adults\, $4 kids aged 4-12\, and kids age 3 and under are free. Underwriting support provided by M&T Bank.
X-ALT-DESC;FMTTYPE=text/html:Pumpkin Festival has become a family tradition at Renfrew! Visitors enjoy the exciting pumpkin-chuckin&rsquo\; trebuchet\, pumpkin carving\, hayrides\, live music\, children&rsquo\;s activities and fun games at this popular joint fundraising event co-sponsored by Renfrew Museum and Park and The Institute at Renfrew. Free soup\, cider\, and bread included with admission fee. Hot dogs\, sodas\, and bake sale items sold separately. Admission fee $10 adults\, $4 kids aged 4-12\, and kids age 3 and under are free. Underwriting support provided by M&amp\;T Bank.
LOCATION:1010 E. Main Street\, Waynesboro\, PA 17268
UID:e.3398.308
SEQUENCE:3
DTSTAMP:20260419T223758Z
URL:http://business.waynesboro.org/events/details/26th-annual-pumpkin-festival-308
END:VEVENT

END:VCALENDAR
